Workbook

Sheet Tracker
A1: # | B1: Part | C1: Topic | D1: Problem | E1: Difficulty | F1: Solved | G1: Date solved | H1: Key sentence | I1: Pattern | J1: Time | K1: Space | L1: Edge case missed | M1: Reviews passed | N1: Next review | O1: Status
A2: 1 | B2: 2 | C2: Arrays & Hashing | D2: Contains Duplicate | E2: Easy | N2: =IF(G2="","",IF(N(M2)>=4,"done",G2+CHOOSE(N(M2)+1,1,3,7,14))) | O2: =IF(G2="","not started",IF(N2="done","done",IF(N2<=TODAY(),"due","scheduled"))) -> not started
A3: 2 | B3: 2 | C3: Arrays & Hashing | D3: Valid Anagram | E3: Easy | N3: =IF(G3="","",IF(N(M3)>=4,"done",G3+CHOOSE(N(M3)+1,1,3,7,14))) | O3: =IF(G3="","not started",IF(N3="done","done",IF(N3<=TODAY(),"due","scheduled"))) -> not started
A4: 3 | B4: 2 | C4: Arrays & Hashing | D4: Two Sum | E4: Easy | N4: =IF(G4="","",IF(N(M4)>=4,"done",G4+CHOOSE(N(M4)+1,1,3,7,14))) | O4: =IF(G4="","not started",IF(N4="done","done",IF(N4<=TODAY(),"due","scheduled"))) -> not started
A5: 4 | B5: 2 | C5: Arrays & Hashing | D5: Group Anagrams | E5: Medium | N5: =IF(G5="","",IF(N(M5)>=4,"done",G5+CHOOSE(N(M5)+1,1,3,7,14))) | O5: =IF(G5="","not started",IF(N5="done","done",IF(N5<=TODAY(),"due","scheduled"))) -> not started
A6: 5 | B6: 2 | C6: Arrays & Hashing | D6: Top K Frequent Elements | E6: Medium | N6: =IF(G6="","",IF(N(M6)>=4,"done",G6+CHOOSE(N(M6)+1,1,3,7,14))) | O6: =IF(G6="","not started",IF(N6="done","done",IF(N6<=TODAY(),"due","scheduled"))) -> not started
A7: 6 | B7: 2 | C7: Arrays & Hashing | D7: Encode and Decode Strings | E7: Medium | N7: =IF(G7="","",IF(N(M7)>=4,"done",G7+CHOOSE(N(M7)+1,1,3,7,14))) | O7: =IF(G7="","not started",IF(N7="done","done",IF(N7<=TODAY(),"due","scheduled"))) -> not started
A8: 7 | B8: 2 | C8: Arrays & Hashing | D8: Product of Array Except Self | E8: Medium | N8: =IF(G8="","",IF(N(M8)>=4,"done",G8+CHOOSE(N(M8)+1,1,3,7,14))) | O8: =IF(G8="","not started",IF(N8="done","done",IF(N8<=TODAY(),"due","scheduled"))) -> not started
A9: 8 | B9: 2 | C9: Arrays & Hashing | D9: Valid Sudoku | E9: Medium | N9: =IF(G9="","",IF(N(M9)>=4,"done",G9+CHOOSE(N(M9)+1,1,3,7,14))) | O9: =IF(G9="","not started",IF(N9="done","done",IF(N9<=TODAY(),"due","scheduled"))) -> not started
A10: 9 | B10: 2 | C10: Arrays & Hashing | D10: Longest Consecutive Sequence | E10: Medium | N10: =IF(G10="","",IF(N(M10)>=4,"done",G10+CHOOSE(N(M10)+1,1,3,7,14))) | O10: =IF(G10="","not started",IF(N10="done","done",IF(N10<=TODAY(),"due","scheduled"))) -> not started
A11: 10 | B11: 3 | C11: Two Pointers | D11: Valid Palindrome | E11: Easy | N11: =IF(G11="","",IF(N(M11)>=4,"done",G11+CHOOSE(N(M11)+1,1,3,7,14))) | O11: =IF(G11="","not started",IF(N11="done","done",IF(N11<=TODAY(),"due","scheduled"))) -> not started
A12: 11 | B12: 3 | C12: Two Pointers | D12: Two Sum II Input Array Is Sorted | E12: Medium | N12: =IF(G12="","",IF(N(M12)>=4,"done",G12+CHOOSE(N(M12)+1,1,3,7,14))) | O12: =IF(G12="","not started",IF(N12="done","done",IF(N12<=TODAY(),"due","scheduled"))) -> not started
A13: 12 | B13: 3 | C13: Two Pointers | D13: 3Sum | E13: Medium | N13: =IF(G13="","",IF(N(M13)>=4,"done",G13+CHOOSE(N(M13)+1,1,3,7,14))) | O13: =IF(G13="","not started",IF(N13="done","done",IF(N13<=TODAY(),"due","scheduled"))) -> not started
... A151: 150 | B151: 19 | C151: Math & Geometry | D151: Detect Squares | E151: Medium | N151: =IF(G151="","",IF(N(M151)>=4,"done",G151+CHOOSE(N(M151)+1,1,3,7,14))) | O151: =IF(G151="","not started",IF(N151="done","done",IF(N151<=TODAY(),"due","scheduled"))) -> not started

Sheet Dashboard
A1: Progress
A2: Everything here is computed from the Tracker sheet. Cold ratio = cold solves / solved; rising means the method is working, flat on one topic means revisit its lesson.
A4: Part | B4: Topic | C4: Problems | D4: Easy | E4: Medium | F4: Hard | G4: Solved | H4: Cold | I4: Needed video | J4: Cold ratio | K4: Due now
A5: 2 | B5: Arrays & Hashing | C5: =COUNTIF(Tracker!$C$2:$C$151,$B5) -> 9 | D5: =COUNTIFS(Tracker!$C$2:$C$151,$B5,Tracker!$E$2:$E$151,"Easy") -> 3 | E5: =COUNTIFS(Tracker!$C$2:$C$151,$B5,Tracker!$E$2:$E$151,"Medium") -> 6 | F5: =COUNTIFS(Tracker!$C$2:$C$151,$B5,Tracker!$E$2:$E$151,"Hard") -> 0 | G5: =COUNTIFS(Tracker!$C$2:$C$151,$B5,Tracker!$F$2:$F$151,"<>") -> 0 | H5: =COUNTIFS(Tracker!$C$2:$C$151,$B5,Tracker!$F$2:$F$151,"Cold") -> 0 | I5: =COUNTIFS(Tracker!$C$2:$C$151,$B5,Tracker!$F$2:$F$151,"Needed video") -> 0 | J5: =IF(G5=0,"",H5/G5) | K5: =COUNTIFS(Tracker!$C$2:$C$151,$B5,Tracker!$O$2:$O$151,"due") -> 0
A6: 3 | B6: Two Pointers | C6: =COUNTIF(Tracker!$C$2:$C$151,$B6) -> 5 | D6: =COUNTIFS(Tracker!$C$2:$C$151,$B6,Tracker!$E$2:$E$151,"Easy") -> 1 | E6: =COUNTIFS(Tracker!$C$2:$C$151,$B6,Tracker!$E$2:$E$151,"Medium") -> 3 | F6: =COUNTIFS(Tracker!$C$2:$C$151,$B6,Tracker!$E$2:$E$151,"Hard") -> 1 | G6: =COUNTIFS(Tracker!$C$2:$C$151,$B6,Tracker!$F$2:$F$151,"<>") -> 0 | H6: =COUNTIFS(Tracker!$C$2:$C$151,$B6,Tracker!$F$2:$F$151,"Cold") -> 0 | I6: =COUNTIFS(Tracker!$C$2:$C$151,$B6,Tracker!$F$2:$F$151,"Needed video") -> 0 | J6: =IF(G6=0,"",H6/G6) | K6: =COUNTIFS(Tracker!$C$2:$C$151,$B6,Tracker!$O$2:$O$151,"due") -> 0
A7: 4 | B7: Stack | C7: =COUNTIF(Tracker!$C$2:$C$151,$B7) -> 6 | D7: =COUNTIFS(Tracker!$C$2:$C$151,$B7,Tracker!$E$2:$E$151,"Easy") -> 1 | E7: =COUNTIFS(Tracker!$C$2:$C$151,$B7,Tracker!$E$2:$E$151,"Medium") -> 4 | F7: =COUNTIFS(Tracker!$C$2:$C$151,$B7,Tracker!$E$2:$E$151,"Hard") -> 1 | G7: =COUNTIFS(Tracker!$C$2:$C$151,$B7,Tracker!$F$2:$F$151,"<>") -> 0 | H7: =COUNTIFS(Tracker!$C$2:$C$151,$B7,Tracker!$F$2:$F$151,"Cold") -> 0 | I7: =COUNTIFS(Tracker!$C$2:$C$151,$B7,Tracker!$F$2:$F$151,"Needed video") -> 0 | J7: =IF(G7=0,"",H7/G7) | K7: =COUNTIFS(Tracker!$C$2:$C$151,$B7,Tracker!$O$2:$O$151,"due") -> 0
A8: 5 | B8: Binary Search | C8: =COUNTIF(Tracker!$C$2:$C$151,$B8) -> 7 | D8: =COUNTIFS(Tracker!$C$2:$C$151,$B8,Tracker!$E$2:$E$151,"Easy") -> 1 | E8: =COUNTIFS(Tracker!$C$2:$C$151,$B8,Tracker!$E$2:$E$151,"Medium") -> 5 | F8: =COUNTIFS(Tracker!$C$2:$C$151,$B8,Tracker!$E$2:$E$151,"Hard") -> 1 | G8: =COUNTIFS(Tracker!$C$2:$C$151,$B8,Tracker!$F$2:$F$151,"<>") -> 0 | H8: =COUNTIFS(Tracker!$C$2:$C$151,$B8,Tracker!$F$2:$F$151,"Cold") -> 0 | I8: =COUNTIFS(Tracker!$C$2:$C$151,$B8,Tracker!$F$2:$F$151,"Needed video") -> 0 | J8: =IF(G8=0,"",H8/G8) | K8: =COUNTIFS(Tracker!$C$2:$C$151,$B8,Tracker!$O$2:$O$151,"due") -> 0
A9: 6 | B9: Sliding Window | C9: =COUNTIF(Tracker!$C$2:$C$151,$B9) -> 6 | D9: =COUNTIFS(Tracker!$C$2:$C$151,$B9,Tracker!$E$2:$E$151,"Easy") -> 1 | E9: =COUNTIFS(Tracker!$C$2:$C$151,$B9,Tracker!$E$2:$E$151,"Medium") -> 3 | F9: =COUNTIFS(Tracker!$C$2:$C$151,$B9,Tracker!$E$2:$E$151,"Hard") -> 2 | G9: =COUNTIFS(Tracker!$C$2:$C$151,$B9,Tracker!$F$2:$F$151,"<>") -> 0 | H9: =COUNTIFS(Tracker!$C$2:$C$151,$B9,Tracker!$F$2:$F$151,"Cold") -> 0 | I9: =COUNTIFS(Tracker!$C$2:$C$151,$B9,Tracker!$F$2:$F$151,"Needed video") -> 0 | J9: =IF(G9=0,"",H9/G9) | K9: =COUNTIFS(Tracker!$C$2:$C$151,$B9,Tracker!$O$2:$O$151,"due") -> 0
A10: 7 | B10: Linked List | C10: =COUNTIF(Tracker!$C$2:$C$151,$B10) -> 11 | D10: =COUNTIFS(Tracker!$C$2:$C$151,$B10,Tracker!$E$2:$E$151,"Easy") -> 3 | E10: =COUNTIFS(Tracker!$C$2:$C$151,$B10,Tracker!$E$2:$E$151,"Medium") -> 6 | F10: =COUNTIFS(Tracker!$C$2:$C$151,$B10,Tracker!$E$2:$E$151,"Hard") -> 2 | G10: =COUNTIFS(Tracker!$C$2:$C$151,$B10,Tracker!$F$2:$F$151,"<>") -> 0 | H10: =COUNTIFS(Tracker!$C$2:$C$151,$B10,Tracker!$F$2:$F$151,"Cold") -> 0 | I10: =COUNTIFS(Tracker!$C$2:$C$151,$B10,Tracker!$F$2:$F$151,"Needed video") -> 0 | J10: =IF(G10=0,"",H10/G10) | K10: =COUNTIFS(Tracker!$C$2:$C$151,$B10,Tracker!$O$2:$O$151,"due") -> 0
A11: 8 | B11: Trees | C11: =COUNTIF(Tracker!$C$2:$C$151,$B11) -> 15 | D11: =COUNTIFS(Tracker!$C$2:$C$151,$B11,Tracker!$E$2:$E$151,"Easy") -> 6 | E11: =COUNTIFS(Tracker!$C$2:$C$151,$B11,Tracker!$E$2:$E$151,"Medium") -> 7 | F11: =COUNTIFS(Tracker!$C$2:$C$151,$B11,Tracker!$E$2:$E$151,"Hard") -> 2 | G11: =COUNTIFS(Tracker!$C$2:$C$151,$B11,Tracker!$F$2:$F$151,"<>") -> 0 | H11: =COUNTIFS(Tracker!$C$2:$C$151,$B11,Tracker!$F$2:$F$151,"Cold") -> 0 | I11: =COUNTIFS(Tracker!$C$2:$C$151,$B11,Tracker!$F$2:$F$151,"Needed video") -> 0 | J11: =IF(G11=0,"",H11/G11) | K11: =COUNTIFS(Tracker!$C$2:$C$151,$B11,Tracker!$O$2:$O$151,"due") -> 0
A12: 9 | B12: Tries | C12: =COUNTIF(Tracker!$C$2:$C$151,$B12) -> 3 | D12: =COUNTIFS(Tracker!$C$2:$C$151,$B12,Tracker!$E$2:$E$151,"Easy") -> 0 | E12: =COUNTIFS(Tracker!$C$2:$C$151,$B12,Tracker!$E$2:$E$151,"Medium") -> 2 | F12: =COUNTIFS(Tracker!$C$2:$C$151,$B12,Tracker!$E$2:$E$151,"Hard") -> 1 | G12: =COUNTIFS(Tracker!$C$2:$C$151,$B12,Tracker!$F$2:$F$151,"<>") -> 0 | H12: =COUNTIFS(Tracker!$C$2:$C$151,$B12,Tracker!$F$2:$F$151,"Cold") -> 0 | I12: =COUNTIFS(Tracker!$C$2:$C$151,$B12,Tracker!$F$2:$F$151,"Needed video") -> 0 | J12: =IF(G12=0,"",H12/G12) | K12: =COUNTIFS(Tracker!$C$2:$C$151,$B12,Tracker!$O$2:$O$151,"due") -> 0
A13: 10 | B13: Heap / Priority Queue | C13: =COUNTIF(Tracker!$C$2:$C$151,$B13) -> 7 | D13: =COUNTIFS(Tracker!$C$2:$C$151,$B13,Tracker!$E$2:$E$151,"Easy") -> 2 | E13: =COUNTIFS(Tracker!$C$2:$C$151,$B13,Tracker!$E$2:$E$151,"Medium") -> 4 | F13: =COUNTIFS(Tracker!$C$2:$C$151,$B13,Tracker!$E$2:$E$151,"Hard") -> 1 | G13: =COUNTIFS(Tracker!$C$2:$C$151,$B13,Tracker!$F$2:$F$151,"<>") -> 0 | H13: =COUNTIFS(Tracker!$C$2:$C$151,$B13,Tracker!$F$2:$F$151,"Cold") -> 0 | I13: =COUNTIFS(Tracker!$C$2:$C$151,$B13,Tracker!$F$2:$F$151,"Needed video") -> 0 | J13: =IF(G13=0,"",H13/G13) | K13: =COUNTIFS(Tracker!$C$2:$C$151,$B13,Tracker!$O$2:$O$151,"due") -> 0
A14: 11 | B14: Backtracking | C14: =COUNTIF(Tracker!$C$2:$C$151,$B14) -> 10 | D14: =COUNTIFS(Tracker!$C$2:$C$151,$B14,Tracker!$E$2:$E$151,"Easy") -> 0 | E14: =COUNTIFS(Tracker!$C$2:$C$151,$B14,Tracker!$E$2:$E$151,"Medium") -> 9 | F14: =COUNTIFS(Tracker!$C$2:$C$151,$B14,Tracker!$E$2:$E$151,"Hard") -> 1 | G14: =COUNTIFS(Tracker!$C$2:$C$151,$B14,Tracker!$F$2:$F$151,"<>") -> 0 | H14: =COUNTIFS(Tracker!$C$2:$C$151,$B14,Tracker!$F$2:$F$151,"Cold") -> 0 | I14: =COUNTIFS(Tracker!$C$2:$C$151,$B14,Tracker!$F$2:$F$151,"Needed video") -> 0 | J14: =IF(G14=0,"",H14/G14) | K14: =COUNTIFS(Tracker!$C$2:$C$151,$B14,Tracker!$O$2:$O$151,"due") -> 0
A15: 12 | B15: Intervals | C15: =COUNTIF(Tracker!$C$2:$C$151,$B15) -> 6 | D15: =COUNTIFS(Tracker!$C$2:$C$151,$B15,Tracker!$E$2:$E$151,"Easy") -> 1 | E15: =COUNTIFS(Tracker!$C$2:$C$151,$B15,Tracker!$E$2:$E$151,"Medium") -> 4 | F15: =COUNTIFS(Tracker!$C$2:$C$151,$B15,Tracker!$E$2:$E$151,"Hard") -> 1 | G15: =COUNTIFS(Tracker!$C$2:$C$151,$B15,Tracker!$F$2:$F$151,"<>") -> 0 | H15: =COUNTIFS(Tracker!$C$2:$C$151,$B15,Tracker!$F$2:$F$151,"Cold") -> 0 | I15: =COUNTIFS(Tracker!$C$2:$C$151,$B15,Tracker!$F$2:$F$151,"Needed video") -> 0 | J15: =IF(G15=0,"",H15/G15) | K15: =COUNTIFS(Tracker!$C$2:$C$151,$B15,Tracker!$O$2:$O$151,"due") -> 0
A16: 13 | B16: Greedy | C16: =COUNTIF(Tracker!$C$2:$C$151,$B16) -> 8 | D16: =COUNTIFS(Tracker!$C$2:$C$151,$B16,Tracker!$E$2:$E$151,"Easy") -> 0 | E16: =COUNTIFS(Tracker!$C$2:$C$151,$B16,Tracker!$E$2:$E$151,"Medium") -> 8 | F16: =COUNTIFS(Tracker!$C$2:$C$151,$B16,Tracker!$E$2:$E$151,"Hard") -> 0 | G16: =COUNTIFS(Tracker!$C$2:$C$151,$B16,Tracker!$F$2:$F$151,"<>") -> 0 | H16: =COUNTIFS(Tracker!$C$2:$C$151,$B16,Tracker!$F$2:$F$151,"Cold") -> 0 | I16: =COUNTIFS(Tracker!$C$2:$C$151,$B16,Tracker!$F$2:$F$151,"Needed video") -> 0 | J16: =IF(G16=0,"",H16/G16) | K16: =COUNTIFS(Tracker!$C$2:$C$151,$B16,Tracker!$O$2:$O$151,"due") -> 0
... A22: 19 | B22: Math & Geometry | C22: =COUNTIF(Tracker!$C$2:$C$151,$B22) -> 8 | D22: =COUNTIFS(Tracker!$C$2:$C$151,$B22,Tracker!$E$2:$E$151,"Easy") -> 2 | E22: =COUNTIFS(Tracker!$C$2:$C$151,$B22,Tracker!$E$2:$E$151,"Medium") -> 6 | F22: =COUNTIFS(Tracker!$C$2:$C$151,$B22,Tracker!$E$2:$E$151,"Hard") -> 0 | G22: =COUNTIFS(Tracker!$C$2:$C$151,$B22,Tracker!$F$2:$F$151,"<>") -> 0 | H22: =COUNTIFS(Tracker!$C$2:$C$151,$B22,Tracker!$F$2:$F$151,"Cold") -> 0 | I22: =COUNTIFS(Tracker!$C$2:$C$151,$B22,Tracker!$F$2:$F$151,"Needed video") -> 0 | J22: =IF(G22=0,"",H22/G22) | K22: =COUNTIFS(Tracker!$C$2:$C$151,$B22,Tracker!$O$2:$O$151,"due") -> 0
B23: All topics | C23: =SUM(C5:C22) -> 150 | D23: =SUM(D5:D22) -> 28 | E23: =SUM(E5:E22) -> 101 | F23: =SUM(F5:F22) -> 21 | G23: =SUM(G5:G22) -> 0 | H23: =SUM(H5:H22) -> 0 | I23: =SUM(I5:I22) -> 0 | J23: =IF(G23=0,"",H23/G23) | K23: =SUM(K5:K22) -> 0

Sheet How to use
A1: How to use this tracker
A3: Where it's from | B3: The solving cycle in Part 1 of Data Structures & Algorithms, Pattern by Pattern: https://rishabh0111.github.io/blogs/dsa-the-method/
A4: You fill in | B4: Only the cells shaded pale yellow on the Tracker sheet (teal headers): Solved, Date solved, Key sentence, Pattern, Time, Space, Edge case missed, Reviews passed. Everything else is filled or computed.
A5: Solved | B5: Cold if you solved it after the 15-minute struggle with no help. Needed video if you needed a walkthrough or the chat's approach. Cold solves are the metric.
A6: Key sentence | B6: One line you could rebuild the whole solution from. If you can't rebuild it from the line, the line was too vague: rewrite it.
A7: Reviews | B7: Re-solve 1, 3, 7 and 14 days after the date solved. Next review and Status work it out. A review passes if you can state the pattern, the key idea and the complexity fluently in about two minutes; add 1 to Reviews passed.
A8: A failed review | B8: Struggle 5 minutes, read the key sentence, re-watch only as a last resort. Then set Date solved to today and Reviews passed to 0: the problem starts again from day 1.
A9: Status | B9: not started · scheduled · due (review today or overdue, shown red) · done (all four reviews passed).
A10: Dashboard | B10: Per-topic progress and cold ratio. Filter the Tracker's Status column to 'due' for today's reviews.
A11: Google Sheets | B11: File > Import > Upload this file. The formulas and dropdowns carry over.
A13: Example row | B13: How a filled-in Tracker row looks (a made-up problem, not one from the list):
A14: Problem | B14: Longest run of equal neighbours
A15: Solved | B15: Cold
... A22: Reviews passed | B22: 2 → next review is 7 days after 2024-02-10
